BEGIN:VCALENDAR
VERSION:2.0
PRODID:-//CCEH - ECPv6.15.20//NONSGML v1.0//EN
CALSCALE:GREGORIAN
METHOD:PUBLISH
X-ORIGINAL-URL:https://cceh.io
X-WR-CALDESC:Events for CCEH
REFRESH-INTERVAL;VALUE=DURATION:PT1H
X-Robots-Tag:noindex
X-PUBLISHED-TTL:PT1H
BEGIN:VTIMEZONE
TZID:America/Denver
BEGIN:DAYLIGHT
TZOFFSETFROM:-0700
TZOFFSETTO:-0600
TZNAME:MDT
DTSTART:20250309T090000
END:DAYLIGHT
BEGIN:STANDARD
TZOFFSETFROM:-0600
TZOFFSETTO:-0700
TZNAME:MST
DTSTART:20251102T080000
END:STANDARD
BEGIN:DAYLIGHT
TZOFFSETFROM:-0700
TZOFFSETTO:-0600
TZNAME:MDT
DTSTART:20260308T090000
END:DAYLIGHT
BEGIN:STANDARD
TZOFFSETFROM:-0600
TZOFFSETTO:-0700
TZNAME:MST
DTSTART:20261101T080000
END:STANDARD
BEGIN:DAYLIGHT
TZOFFSETFROM:-0700
TZOFFSETTO:-0600
TZNAME:MDT
DTSTART:20270314T090000
END:DAYLIGHT
BEGIN:STANDARD
TZOFFSETFROM:-0600
TZOFFSETTO:-0700
TZNAME:MST
DTSTART:20271107T080000
END:STANDARD
END:VTIMEZONE
BEGIN:VTIMEZONE
TZID:America/New_York
BEGIN:DAYLIGHT
TZOFFSETFROM:-0500
TZOFFSETTO:-0400
TZNAME:EDT
DTSTART:20250309T070000
END:DAYLIGHT
BEGIN:STANDARD
TZOFFSETFROM:-0400
TZOFFSETTO:-0500
TZNAME:EST
DTSTART:20251102T060000
END:STANDARD
BEGIN:DAYLIGHT
TZOFFSETFROM:-0500
TZOFFSETTO:-0400
TZNAME:EDT
DTSTART:20260308T070000
END:DAYLIGHT
BEGIN:STANDARD
TZOFFSETFROM:-0400
TZOFFSETTO:-0500
TZNAME:EST
DTSTART:20261101T060000
END:STANDARD
BEGIN:DAYLIGHT
TZOFFSETFROM:-0500
TZOFFSETTO:-0400
TZNAME:EDT
DTSTART:20270314T070000
END:DAYLIGHT
BEGIN:STANDARD
TZOFFSETFROM:-0400
TZOFFSETTO:-0500
TZNAME:EST
DTSTART:20271107T060000
END:STANDARD
END:VTIMEZONE
BEGIN:VEVENT
DTSTART;VALUE=DATE:20260518
DTEND;VALUE=DATE:20260522
DTSTAMP:20260420T000005
CREATED:20260417T181523Z
LAST-MODIFIED:20260417T181607Z
UID:4063-1779062400-1779407999@cceh.io
SUMMARY:Fifteenth International Workshop on Molecular Aspects Of Myeloid StemCell Development & Leukemia
DESCRIPTION:[vc_row][vc_column][vc_column_text css=””]The goal of these biennial workshops is to bring together investigators with expertise in complementary aspects of stem cell biology and myelopoiesis – from normal myelopoiesis to myeloid leukemia and myelodysplastic/myeloproliferative syndromes. Basic researchers from around the world come together biennially to discuss their latest findings in a close and informal setting.[/vc_column_text][/vc_column][/vc_row]
URL:https://www.myeloidmeeting.org/#new_tab
CATEGORIES:Conference Opportunities
ATTACH;FMTTYPE=image/webp:https://cceh.io/wp-content/uploads/sites/2/2026/02/myeloid-e1770078840122.webp
END:VEVENT
BEGIN:VEVENT
DTSTART;TZID=America/Denver:20260603T090000
DTEND;TZID=America/Denver:20260603T090000
DTSTAMP:20260420T000005
CREATED:20260316T231321Z
LAST-MODIFIED:20260316T232125Z
UID:3833-1780477200-1780477200@cceh.io
SUMMARY:CIHD Student/Postdoc Training Program Special Virtual Seminar
DESCRIPTION:
URL:https://cceh.io/event/cihd-student-postdoc-training-program-special-virtual-seminar-2/
CATEGORIES:Lecture
ATTACH;FMTTYPE=image/png:https://cceh.io/wp-content/uploads/sites/2/2026/03/RESCHEDULED-CIHD-virtual-seminar-flyer.png
END:VEVENT
BEGIN:VEVENT
DTSTART;TZID=America/New_York:20260619T120000
DTEND;TZID=America/New_York:20260619T130000
DTSTAMP:20260420T000005
CREATED:20260324T164334Z
LAST-MODIFIED:20260401T224740Z
UID:3924-1781870400-1781874000@cceh.io
SUMMARY:Independent mechanisms of inflammation and myeloid bias in VEXAS Syndrome
DESCRIPTION:[vc_section content_placement=”top” el_class=”ycceh presentation_flyer”][vc_row equal_height=”yes” content_placement=”middle” el_class=”series_header”][vc_column width=”1/6″ css=”.vc_custom_1757544390935{padding-top: 0px !important;padding-right: 0px !important;padding-bottom: 0px !important;padding-left: 0px !important;}”][vc_single_image image=”3311″ img_size=”116 X 136″ alignment=”center” css=”” el_class=”ycceh_logo”][/vc_column][vc_column width=”5/6″][vc_column_text css=”” el_class=”main_header”] \nApplication Due\n[/vc_column_text][vc_column_text css=”” el_class=”subheader”] NIDDK-U24 Sponsored Cooperative Centers of Excellence in Hematology [/vc_column_text][/vc_column][/vc_row][vc_row content_placement=”top” el_class=”inner_details_block”][vc_column css=”.vc_custom_1715710591183{margin-top: 0px !important;padding-right: 0px !important;padding-left: 0px !important;}”][vc_wp_text el_class=”date_text_field utc”] \n2026-03-16 23:00:00\n[/vc_wp_text][vc_row_inner el_class=”presenter_details_box”][vc_column_inner el_class=”speaker_headshot” width=”1/2″][acf_vc_integrator get_field_data_from=”” field_group=”572″ field_from_572=”field_663938e00519f” show_label=”default” align=”default” gallery_columns=”1″ gm_show_placecard=”default” gm_map_type_control=”default” gm_fullscreen_control=”default” gm_street_view_control=”default” gm_zoom_control=”default” gm_scale=”default” hidden_field_name=”Presenter’s Picture”][/vc_column_inner][vc_column_inner el_class=”presenter_text_box” width=”1/2″][acf_vc_integrator get_field_data_from=”” field_group=”572″ field_from_572=”field_663936642adfc” show_label=”default” align=”default” gallery_columns=”1″ gm_show_placecard=”default” gm_map_type_control=”default” gm_fullscreen_control=”default” gm_street_view_control=”default” gm_zoom_control=”default” gm_scale=”default” hidden_field_name=”Presenter Name” el_class=”presenter_name_text”][acf_vc_integrator get_field_data_from=”” field_group=”572″ field_from_572=”field_663eb536c2521″ show_label=”default” align=”default” gallery_columns=”1″ gm_show_placecard=”default” gm_map_type_control=”default” gm_fullscreen_control=”default” gm_street_view_control=”default” gm_zoom_control=”default” gm_scale=”default” hidden_field_name=”Presenter Role” el_class=”presenter_role_text”][acf_vc_integrator get_field_data_from=”” field_group=”572″ field_from_572=”field_663938232adfd” show_label=”default” align=”default” gallery_columns=”1″ gm_show_placecard=”default” gm_map_type_control=”default” gm_fullscreen_control=”default” gm_street_view_control=”default” gm_zoom_control=”default” gm_scale=”default” hidden_field_name=”Institution” el_class=”institution_text”][/vc_column_inner][/vc_row_inner][vc_row_inner equal_height=”yes” content_placement=”middle” css=”.vc_custom_1715710885223{margin-top: 0px !important;margin-bottom: 0px !important;padding-right: 0px !important;padding-left: 0px !important;}” el_class=”meeting_details_banner”][vc_column_inner el_class=”zoom_details_box” width=”1/6″ css=”.vc_custom_1715639404446{margin-top: 0px !important;margin-right: 0px !important;margin-bottom: 0px !important;margin-left: 0px !important;}”][vc_icon icon_fontawesome=”fas fa-video” color=”custom” background_style=”rounded” background_color=”custom” align=”center” css=”” el_class=”meeting_icon”][vc_column_text css=”” el_class=”dt-text-title”] \nZoom Meeting\n[/vc_column_text][acf_vc_integrator get_field_data_from=”” field_group=”572″ field_from_572=”field_663938312adfe” show_label=”yes_no” align=”default” gallery_columns=”1″ gm_show_placecard=”default” gm_map_type_control=”default” gm_fullscreen_control=”default” gm_street_view_control=”default” gm_zoom_control=”default” gm_scale=”default” hidden_field_name=”Meeting ID” el_class=”meeting_details”][acf_vc_integrator get_field_data_from=”” field_group=”572″ field_from_572=”field_663938412adff” show_label=”yes_no” align=”default” gallery_columns=”1″ gm_show_placecard=”default” gm_map_type_control=”default” gm_fullscreen_control=”default” gm_street_view_control=”default” gm_zoom_control=”default” gm_scale=”default” hidden_field_name=”Passcode” el_class=”meeting_details”][acf_vc_integrator get_field_data_from=”” field_group=”572″ field_from_572=”field_66393a0ed0d2c” show_label=”default” align=”default” gallery_columns=”1″ gm_show_placecard=”default” gm_map_type_control=”default” gm_fullscreen_control=”default” gm_street_view_control=”default” gm_zoom_control=”default” gm_scale=”default” hidden_field_name=”Meeting URL” el_class=”meeting_url” link_text=”Launch Zoom Meeting ▸”][/vc_column_inner][vc_column_inner el_class=”meeting_title_box” width=”2/3″][acf_vc_integrator get_field_data_from=”” field_group=”572″ field_from_572=”field_663953a7c4262″ show_label=”default” align=”default” gallery_columns=”1″ gm_show_placecard=”default” gm_map_type_control=”default” gm_fullscreen_control=”default” gm_street_view_control=”default” gm_zoom_control=”default” gm_scale=”default” hidden_field_name=”Seminar Title” el_class=”presentation_title”][/vc_column_inner][/vc_row_inner][/vc_column][/vc_row][vc_row bg_type=”grad” bg_override=”full” bg_grad=”background: -webkit-gradient(linear\, left top\, left bottom\, color-stop(84%\, #FFFFFF)\, color-stop(90%\, #BE0000)\, color-stop(100%\, #890000));background: -moz-linear-gradient(top\,#FFFFFF 84%\,#BE0000 90%\,#890000 100%);background: -webkit-linear-gradient(top\,#FFFFFF 84%\,#BE0000 90%\,#890000 100%);background: -o-linear-gradient(top\,#FFFFFF 84%\,#BE0000 90%\,#890000 100%);background: -ms-linear-gradient(top\,#FFFFFF 84%\,#BE0000 90%\,#890000 100%);background: linear-gradient(top\,#FFFFFF 84%\,#BE0000 90%\,#890000 100%);” el_class=”flyer_footer”][vc_column css=”.vc_custom_1757546015863{margin-bottom: 0px !important;padding-top: 0px !important;}” el_class=”social_col”][vc_custom_heading text=”Follow CCEH!” font_container=”tag:h2|text_align:center” google_fonts=”font_family:Righteous%3Aregular|font_style:400%20regular%3A400%3Anormal” css=”” el_class=”social_header”][vc_column_text css=””] \n\nFacebook\n\nX\n\nInstagram\n\nBluesky\n\nYouTube\n\n[/vc_column_text][/vc_column][/vc_row][/vc_section]
URL:https://cceh.io/event/independent-mechanisms-of-inflammation-and-myeloid-bias-in-vexas-syndrome/
CATEGORIES:Yale CCEH Rising Stars in Hematology Series
ATTACH;FMTTYPE=image/jpeg:https://cceh.io/wp-content/uploads/sites/2/2026/03/adg_photo_for_cornellCROP-c888d33957657f3263ca2ebfb8f2a135.jpeg
END:VEVENT
BEGIN:VEVENT
DTSTART;VALUE=DATE:20260802
DTEND;VALUE=DATE:20260808
DTSTAMP:20260420T000005
CREATED:20260417T180411Z
LAST-MODIFIED:20260417T190543Z
UID:4058-1785628800-1786147199@cceh.io
SUMMARY:Gordon Research Conference: Integrative Mechanisms of Hemostasis in Health and Disease
DESCRIPTION:[vc_row][vc_column][vc_column_text css=””]The Hemostasis GRC is a premier\, international scientific conference focused on advancing the frontiers of science through the presentation of cutting-edge and unpublished research\, prioritizing time for discussion after each talk and fostering informal interactions among scientists of all career stages. The conference program includes an array of speakers and discussion leaders from institutions and organizations worldwide\, concentrating on the latest developments in the field.[/vc_column_text][/vc_column][/vc_row]
URL:https://www.grc.org/hemostasis-conference/2026/#new_tab
CATEGORIES:Conference Opportunities
ATTACH;FMTTYPE=image/png:https://cceh.io/wp-content/uploads/sites/2/2026/04/grc-1.png
END:VEVENT
BEGIN:VEVENT
DTSTART;VALUE=DATE:20260827
DTEND;VALUE=DATE:20260831
DTSTAMP:20260420T000005
CREATED:20260416T231157Z
LAST-MODIFIED:20260417T172320Z
UID:4038-1787788800-1788134399@cceh.io
SUMMARY:International Society for Experimental Hematology Annual Scientific Meeting
DESCRIPTION:[vc_row][vc_column][vc_column_text css=””]The mission of ISEH is to promote the scientific knowledge and clinical application of basic hematology\, immunology\, stem cell research\, cell and gene therapy\, and all related aspects through research\, publications\, discussion\, support of young investigators and organization of scientific meetings.[/vc_column_text][/vc_column][/vc_row]
URL:https://iseh.org/Annual-Meeting#new_tab
CATEGORIES:Conference Opportunities
ATTACH;FMTTYPE=image/jpeg:https://cceh.io/wp-content/uploads/sites/2/2026/04/ISEH_1588800-25_WebGraphic_500x500.jpg
END:VEVENT
BEGIN:VEVENT
DTSTART;VALUE=DATE:20261212
DTEND;VALUE=DATE:20261216
DTSTAMP:20260420T000005
CREATED:20260417T175454Z
LAST-MODIFIED:20260417T184051Z
UID:4054-1797033600-1797379199@cceh.io
SUMMARY:American Society of Hematology 2026 Annual Meeting
DESCRIPTION:[vc_row][vc_column][vc_column_text css=””]With more than 18\,000 members from nearly 100 countries\, ASH is the world’s largest professional society serving both clinicians and scientists around the world who are working to conquer blood diseases.[/vc_column_text][/vc_column][/vc_row]
URL:https://www.hematology.org/meetings/annual-meeting#new_tab
CATEGORIES:Conference Opportunities
ATTACH;FMTTYPE=image/png:https://cceh.io/wp-content/uploads/sites/2/2026/04/ASH-1.png
END:VEVENT
END:VCALENDAR