BEGIN:VCALENDAR
VERSION:2.0
PRODID:-//CCEH - ECPv6.15.20//NONSGML v1.0//EN
CALSCALE:GREGORIAN
METHOD:PUBLISH
X-WR-CALNAME:CCEH
X-ORIGINAL-URL:https://cceh.io
X-WR-CALDESC:Events for CCEH
REFRESH-INTERVAL;VALUE=DURATION:PT1H
X-Robots-Tag:noindex
X-PUBLISHED-TTL:PT1H
BEGIN:VTIMEZONE
TZID:America/Denver
BEGIN:DAYLIGHT
TZOFFSETFROM:-0700
TZOFFSETTO:-0600
TZNAME:MDT
DTSTART:20250309T090000
END:DAYLIGHT
BEGIN:STANDARD
TZOFFSETFROM:-0600
TZOFFSETTO:-0700
TZNAME:MST
DTSTART:20251102T080000
END:STANDARD
BEGIN:DAYLIGHT
TZOFFSETFROM:-0700
TZOFFSETTO:-0600
TZNAME:MDT
DTSTART:20260308T090000
END:DAYLIGHT
BEGIN:STANDARD
TZOFFSETFROM:-0600
TZOFFSETTO:-0700
TZNAME:MST
DTSTART:20261101T080000
END:STANDARD
BEGIN:DAYLIGHT
TZOFFSETFROM:-0700
TZOFFSETTO:-0600
TZNAME:MDT
DTSTART:20270314T090000
END:DAYLIGHT
BEGIN:STANDARD
TZOFFSETFROM:-0600
TZOFFSETTO:-0700
TZNAME:MST
DTSTART:20271107T080000
END:STANDARD
END:VTIMEZONE
BEGIN:VEVENT
DTSTART;TZID=America/Denver:20260316T170000
DTEND;TZID=America/Denver:20260316T170000
DTSTAMP:20260419T163204
CREATED:20251023T203457Z
LAST-MODIFIED:20260107T175606Z
UID:3585-1773680400-1773680400@cceh.io
SUMMARY:P&F Type B Applications Due
DESCRIPTION:[vc_row][vc_column][vc_cta h2=”Reminder that Type B applications are due!” txt_align=”center” add_button=”bottom” btn_title=”Apply Here” btn_style=”outline” btn_color=”white” btn_size=”lg” btn_align=”center” add_icon=”top” i_icon_fontawesome=”fa fa-solid fa-money-check-dollar” i_color=”custom” i_background_style=”rounded-less” i_background_color=”custom” i_size=”xl” css=”.vc_custom_1761251792235{margin-bottom: 12px !important;padding-top: 36px !important;padding-right: 36px !important;padding-bottom: 36px !important;padding-left: 36px !important;background-color: #738E96B3 !important;}” btn_button_block=”true” btn_link=”url:https%3A%2F%2Fcceh.io%2Ffunding%2F|title:Funding” i_custom_color=”#2C3770″ i_custom_background_color=”#FFFFFF”][/vc_cta][/vc_column][/vc_row]
URL:https://cceh.io/event/pf-type-b-applications-due/
CATEGORIES:Application Due
END:VEVENT
END:VCALENDAR