BEGIN:VCALENDAR
VERSION:2.0
PRODID:-//CCEH - ECPv6.15.20//NONSGML v1.0//EN
CALSCALE:GREGORIAN
METHOD:PUBLISH
X-WR-CALNAME:CCEH
X-ORIGINAL-URL:https://cceh.io
X-WR-CALDESC:Events for CCEH
REFRESH-INTERVAL;VALUE=DURATION:PT1H
X-Robots-Tag:noindex
X-PUBLISHED-TTL:PT1H
BEGIN:VTIMEZONE
TZID:America/Denver
BEGIN:DAYLIGHT
TZOFFSETFROM:-0700
TZOFFSETTO:-0600
TZNAME:MDT
DTSTART:20240310T090000
END:DAYLIGHT
BEGIN:STANDARD
TZOFFSETFROM:-0600
TZOFFSETTO:-0700
TZNAME:MST
DTSTART:20241103T080000
END:STANDARD
BEGIN:DAYLIGHT
TZOFFSETFROM:-0700
TZOFFSETTO:-0600
TZNAME:MDT
DTSTART:20250309T090000
END:DAYLIGHT
BEGIN:STANDARD
TZOFFSETFROM:-0600
TZOFFSETTO:-0700
TZNAME:MST
DTSTART:20251102T080000
END:STANDARD
BEGIN:DAYLIGHT
TZOFFSETFROM:-0700
TZOFFSETTO:-0600
TZNAME:MDT
DTSTART:20260308T090000
END:DAYLIGHT
BEGIN:STANDARD
TZOFFSETFROM:-0600
TZOFFSETTO:-0700
TZNAME:MST
DTSTART:20261101T080000
END:STANDARD
END:VTIMEZONE
BEGIN:VEVENT
DTSTART;TZID=America/Denver:20251027T080000
DTEND;TZID=America/Denver:20251029T170000
DTSTAMP:20260419T235131
CREATED:20250211T233747Z
LAST-MODIFIED:20250825T175835Z
UID:2256-1761552000-1761757200@cceh.io
SUMMARY:Red Cell Club East-West Iron Club Meeting
DESCRIPTION:[vc_row][vc_column][vc_column_text css=””][/vc_column_text][/vc_column][/vc_row]
URL:https://cceh.io/event/red-cell-club-east-west-iron-club-meeting/
CATEGORIES:Conferences and Workshops
END:VEVENT
BEGIN:VEVENT
DTSTART;TZID=America/Denver:20251029T230000
DTEND;TZID=America/Denver:20251029T230000
DTSTAMP:20260419T235131
CREATED:20251007T154342Z
LAST-MODIFIED:20251007T154503Z
UID:3500-1761778800-1761778800@cceh.io
SUMMARY:Keystone Hematopoiesis Meeting - Abstract Deadline
DESCRIPTION:[vc_row][vc_column][vc_column_text css=””]Don’t miss the deadline to submit an abstract for consideration as a short talk or scholarship to the 2026 Keystone Hematopoiesis meeting in Keystone\, Colorado from February 23-26\, 2026.[/vc_column_text][/vc_column][/vc_row]
URL:https://cceh.io/event/keystone-hematopoiesis-meeting-abstract-deadline-for-short-talks-and-scholarships/
CATEGORIES:Abstract Due
ATTACH;FMTTYPE=image/png:https://cceh.io/wp-content/uploads/sites/2/2025/10/Screenshot-2025-10-07-at-9.43.04-AM.png
END:VEVENT
END:VCALENDAR